BEGIN:VCALENDAR
VERSION:2.0
PRODID:-//Kazinczy-díj Alapítvány - ECPv6.15.20//NONSGML v1.0//EN
CALSCALE:GREGORIAN
METHOD:PUBLISH
X-WR-CALNAME:Kazinczy-díj Alapítvány
X-ORIGINAL-URL:https://kazinczy-alapitvany.hu
X-WR-CALDESC:Események Kazinczy-díj Alapítvány
REFRESH-INTERVAL;VALUE=DURATION:PT1H
X-Robots-Tag:noindex
X-PUBLISHED-TTL:PT1H
BEGIN:VTIMEZONE
TZID:Europe/Helsinki
BEGIN:DAYLIGHT
TZOFFSETFROM:+0200
TZOFFSETTO:+0300
TZNAME:EEST
DTSTART:20190331T010000
END:DAYLIGHT
BEGIN:STANDARD
TZOFFSETFROM:+0300
TZOFFSETTO:+0200
TZNAME:EET
DTSTART:20191027T010000
END:STANDARD
BEGIN:DAYLIGHT
TZOFFSETFROM:+0200
TZOFFSETTO:+0300
TZNAME:EEST
DTSTART:20200329T010000
END:DAYLIGHT
BEGIN:STANDARD
TZOFFSETFROM:+0300
TZOFFSETTO:+0200
TZNAME:EET
DTSTART:20201025T010000
END:STANDARD
BEGIN:DAYLIGHT
TZOFFSETFROM:+0200
TZOFFSETTO:+0300
TZNAME:EEST
DTSTART:20210328T010000
END:DAYLIGHT
BEGIN:STANDARD
TZOFFSETFROM:+0300
TZOFFSETTO:+0200
TZNAME:EET
DTSTART:20211031T010000
END:STANDARD
END:VTIMEZONE
BEGIN:VEVENT
DTSTART;TZID=Europe/Helsinki:20200304T130000
DTEND;TZID=Europe/Helsinki:20200304T170000
DTSTAMP:20260424T203805
CREATED:20200205T222250Z
LAST-MODIFIED:20200205T222250Z
UID:1719-1583326800-1583341200@kazinczy-alapitvany.hu
SUMMARY:Zala megyei döntő
DESCRIPTION:A középfokú iskolások részére meghirdetett „Szép magyar beszéd” verseny Zala megyei döntője.
URL:https://kazinczy-alapitvany.hu/esemeny/zala-megyei-donto/
CATEGORIES:Kazinczy-verseny középiskolásoknak
END:VEVENT
END:VCALENDAR