BEGIN:VCALENDAR
VERSION:2.0
PRODID:-//Kazinczy-díj Alapítvány - ECPv6.15.20//NONSGML v1.0//EN
CALSCALE:GREGORIAN
METHOD:PUBLISH
X-ORIGINAL-URL:https://kazinczy-alapitvany.hu
X-WR-CALDESC:Események Kazinczy-díj Alapítvány
REFRESH-INTERVAL;VALUE=DURATION:PT1H
X-Robots-Tag:noindex
X-PUBLISHED-TTL:PT1H
BEGIN:VTIMEZONE
TZID:Europe/Helsinki
BEGIN:DAYLIGHT
TZOFFSETFROM:+0200
TZOFFSETTO:+0300
TZNAME:EEST
DTSTART:20190331T010000
END:DAYLIGHT
BEGIN:STANDARD
TZOFFSETFROM:+0300
TZOFFSETTO:+0200
TZNAME:EET
DTSTART:20191027T010000
END:STANDARD
BEGIN:DAYLIGHT
TZOFFSETFROM:+0200
TZOFFSETTO:+0300
TZNAME:EEST
DTSTART:20200329T010000
END:DAYLIGHT
BEGIN:STANDARD
TZOFFSETFROM:+0300
TZOFFSETTO:+0200
TZNAME:EET
DTSTART:20201025T010000
END:STANDARD
BEGIN:DAYLIGHT
TZOFFSETFROM:+0200
TZOFFSETTO:+0300
TZNAME:EEST
DTSTART:20210328T010000
END:DAYLIGHT
BEGIN:STANDARD
TZOFFSETFROM:+0300
TZOFFSETTO:+0200
TZNAME:EET
DTSTART:20211031T010000
END:STANDARD
END:VTIMEZONE
BEGIN:VEVENT
DTSTART;VALUE=DATE:20200417
DTEND;VALUE=DATE:20200420
DTSTAMP:20260424T191227
CREATED:20191018T115032Z
LAST-MODIFIED:20200330T162430Z
UID:970-1587081600-1587340799@kazinczy-alapitvany.hu
SUMMARY:"Szép magyar beszéd" verseny országos döntője
DESCRIPTION:A győri Kazinczy Ferenc Gimnázium tájékoztatása szerint a középfokú iskolások részére április 17–19-re meghirdetett Kazinczy-verseny elmarad. Az 55. döntőt 2021 áprilisában rendezik meg.
URL:https://kazinczy-alapitvany.hu/esemeny/szep-magyar-beszed-verseny-orszagos-dontoje/
CATEGORIES:Kazinczy-verseny középiskolásoknak
END:VEVENT
END:VCALENDAR