BEGIN:VCALENDAR
VERSION:2.0
PRODID:-//Kazinczy-díj Alapítvány - ECPv6.15.20//NONSGML v1.0//EN
CALSCALE:GREGORIAN
METHOD:PUBLISH
X-WR-CALNAME:Kazinczy-díj Alapítvány
X-ORIGINAL-URL:https://kazinczy-alapitvany.hu
X-WR-CALDESC:Események Kazinczy-díj Alapítvány
REFRESH-INTERVAL;VALUE=DURATION:PT1H
X-Robots-Tag:noindex
X-PUBLISHED-TTL:PT1H
BEGIN:VTIMEZONE
TZID:Europe/Helsinki
BEGIN:DAYLIGHT
TZOFFSETFROM:+0200
TZOFFSETTO:+0300
TZNAME:EEST
DTSTART:20190331T010000
END:DAYLIGHT
BEGIN:STANDARD
TZOFFSETFROM:+0300
TZOFFSETTO:+0200
TZNAME:EET
DTSTART:20191027T010000
END:STANDARD
BEGIN:DAYLIGHT
TZOFFSETFROM:+0200
TZOFFSETTO:+0300
TZNAME:EEST
DTSTART:20200329T010000
END:DAYLIGHT
BEGIN:STANDARD
TZOFFSETFROM:+0300
TZOFFSETTO:+0200
TZNAME:EET
DTSTART:20201025T010000
END:STANDARD
BEGIN:DAYLIGHT
TZOFFSETFROM:+0200
TZOFFSETTO:+0300
TZNAME:EEST
DTSTART:20210328T010000
END:DAYLIGHT
BEGIN:STANDARD
TZOFFSETFROM:+0300
TZOFFSETTO:+0200
TZNAME:EET
DTSTART:20211031T010000
END:STANDARD
END:VTIMEZONE
BEGIN:VEVENT
DTSTART;TZID=Europe/Helsinki:20201016T080000
DTEND;TZID=Europe/Helsinki:20201018T100000
DTSTAMP:20260424T094401
CREATED:20201016T074652Z
LAST-MODIFIED:20201016T074652Z
UID:1872-1602835200-1603015200@kazinczy-alapitvany.hu
SUMMARY:48. Édes anyanyelvünk verseny országos döntő
DESCRIPTION:A 48. alkalommal megrendezett Édes anyanyelvünk nyelvhasználati verseny országos döntője idén október 16-18. között várja a versenyző diákokat és felkészítő tanáraikat. A hagyománynak megfelelően a verseny házigazdája Sátoraljaújhely.\n \nOktóber 16-án:\n8.00 órakor a gimnázium tornatermében az írásbeli verseny megnyitója\, versenyzői sorszámok húzása\n9.00 órakor írásbeli verseny a Kossuth Gimnáziumban\,\n19.00 órakor díszünnepség a Latabár Színházban\n20.00 órakor fogadás a kísérőtanárok részére a Városháza dísztermében \nOktóber 17-én:\n8.00 órakor Kazinczy Ferenc szobrának megkoszorúzása\n8.30 órakor szóbeli verseny\n15.00 órakor a verseny írásbeli részének értékelése a tanárok és a versenyzők részére (a gimnáziumban)\n16.00 órakor a verseny szóbeli részének értékelése a tanárok és a versenyzők részére (a gimnáziumban) \nOktóber 18-án:\n8.00 órakor koszorúzás Kazinczy sírjánál\, majd ünnepélyes eredményhirdetés Széphalomban
URL:https://kazinczy-alapitvany.hu/esemeny/48-edes-anyanyelvunk-verseny-orszagos-donto/
LOCATION:SZSZC Sátoraljaújhelyi Kossuth Lajos Technikum\, Szakképző Iskola és Gimnázium\, Deák utca 10.\, Sátoraljaújhely\, 3980\, Magyarország
CATEGORIES:"Édes anyanyelvünk" nyelvhasználati verseny
END:VEVENT
END:VCALENDAR