BEGIN:VCALENDAR
VERSION:2.0
PRODID:-//Kazinczy-díj Alapítvány - ECPv6.15.20//NONSGML v1.0//EN
CALSCALE:GREGORIAN
METHOD:PUBLISH
X-ORIGINAL-URL:https://kazinczy-alapitvany.hu
X-WR-CALDESC:Események Kazinczy-díj Alapítvány
REFRESH-INTERVAL;VALUE=DURATION:PT1H
X-Robots-Tag:noindex
X-PUBLISHED-TTL:PT1H
BEGIN:VTIMEZONE
TZID:Europe/Helsinki
BEGIN:DAYLIGHT
TZOFFSETFROM:+0200
TZOFFSETTO:+0300
TZNAME:EEST
DTSTART:20210328T010000
END:DAYLIGHT
BEGIN:STANDARD
TZOFFSETFROM:+0300
TZOFFSETTO:+0200
TZNAME:EET
DTSTART:20211031T010000
END:STANDARD
BEGIN:DAYLIGHT
TZOFFSETFROM:+0200
TZOFFSETTO:+0300
TZNAME:EEST
DTSTART:20220327T010000
END:DAYLIGHT
BEGIN:STANDARD
TZOFFSETFROM:+0300
TZOFFSETTO:+0200
TZNAME:EET
DTSTART:20221030T010000
END:STANDARD
BEGIN:DAYLIGHT
TZOFFSETFROM:+0200
TZOFFSETTO:+0300
TZNAME:EEST
DTSTART:20230326T010000
END:DAYLIGHT
BEGIN:STANDARD
TZOFFSETFROM:+0300
TZOFFSETTO:+0200
TZNAME:EET
DTSTART:20231029T010000
END:STANDARD
END:VTIMEZONE
BEGIN:VEVENT
DTSTART;VALUE=DATE:20220407
DTEND;VALUE=DATE:20220410
DTSTAMP:20260424T004501
CREATED:20220320T065811Z
LAST-MODIFIED:20220320T065811Z
UID:2254-1649289600-1649548799@kazinczy-alapitvany.hu
SUMMARY:"Szép Magyar Beszéd" verseny regionális döntője – Balatonboglár
DESCRIPTION:Regionális döntő a Dunától nyugatra eső megyék 5–8. évfolyamos (11–14 éves korú) tanulói részére.\n(Baranya\, Fejér\, Győr-Moson-Sopron\, Komárom-Esztergom\, Somogy\, Tolna\, Vas\, Veszprém\, Zala és Budapest főváros)
URL:https://kazinczy-alapitvany.hu/esemeny/szep-magyar-beszed-verseny-regionalis-dontoje-balatonboglar/
CATEGORIES:Kazinczy-verseny általános iskolásoknak
END:VEVENT
END:VCALENDAR