BEGIN:VCALENDAR
VERSION:2.0
PRODID:-//Kazinczy-díj Alapítvány - ECPv6.15.20//NONSGML v1.0//EN
CALSCALE:GREGORIAN
METHOD:PUBLISH
X-ORIGINAL-URL:https://kazinczy-alapitvany.hu
X-WR-CALDESC:Események Kazinczy-díj Alapítvány
REFRESH-INTERVAL;VALUE=DURATION:PT1H
X-Robots-Tag:noindex
X-PUBLISHED-TTL:PT1H
BEGIN:VTIMEZONE
TZID:Europe/Helsinki
BEGIN:DAYLIGHT
TZOFFSETFROM:+0200
TZOFFSETTO:+0300
TZNAME:EEST
DTSTART:20210328T010000
END:DAYLIGHT
BEGIN:STANDARD
TZOFFSETFROM:+0300
TZOFFSETTO:+0200
TZNAME:EET
DTSTART:20211031T010000
END:STANDARD
BEGIN:DAYLIGHT
TZOFFSETFROM:+0200
TZOFFSETTO:+0300
TZNAME:EEST
DTSTART:20220327T010000
END:DAYLIGHT
BEGIN:STANDARD
TZOFFSETFROM:+0300
TZOFFSETTO:+0200
TZNAME:EET
DTSTART:20221030T010000
END:STANDARD
BEGIN:DAYLIGHT
TZOFFSETFROM:+0200
TZOFFSETTO:+0300
TZNAME:EEST
DTSTART:20230326T010000
END:DAYLIGHT
BEGIN:STANDARD
TZOFFSETFROM:+0300
TZOFFSETTO:+0200
TZNAME:EET
DTSTART:20231029T010000
END:STANDARD
END:VTIMEZONE
BEGIN:VEVENT
DTSTART;VALUE=DATE:20220422
DTEND;VALUE=DATE:20220425
DTSTAMP:20260424T004509
CREATED:20220320T070100Z
LAST-MODIFIED:20220320T070118Z
UID:2257-1650585600-1650844799@kazinczy-alapitvany.hu
SUMMARY:"Szép magyar beszéd" verseny országos döntője
DESCRIPTION:
URL:https://kazinczy-alapitvany.hu/esemeny/szep-magyar-beszed-verseny-orszagos-dontoje-2022/
CATEGORIES:Kazinczy-verseny középiskolásoknak
END:VEVENT
END:VCALENDAR