BEGIN:VCALENDAR
VERSION:2.0
PRODID:-//Kazinczy-díj Alapítvány - ECPv6.15.20//NONSGML v1.0//EN
CALSCALE:GREGORIAN
METHOD:PUBLISH
X-WR-CALNAME:Kazinczy-díj Alapítvány
X-ORIGINAL-URL:https://kazinczy-alapitvany.hu
X-WR-CALDESC:Események Kazinczy-díj Alapítvány
REFRESH-INTERVAL;VALUE=DURATION:PT1H
X-Robots-Tag:noindex
X-PUBLISHED-TTL:PT1H
BEGIN:VTIMEZONE
TZID:Europe/Helsinki
BEGIN:DAYLIGHT
TZOFFSETFROM:+0200
TZOFFSETTO:+0300
TZNAME:EEST
DTSTART:20210328T010000
END:DAYLIGHT
BEGIN:STANDARD
TZOFFSETFROM:+0300
TZOFFSETTO:+0200
TZNAME:EET
DTSTART:20211031T010000
END:STANDARD
BEGIN:DAYLIGHT
TZOFFSETFROM:+0200
TZOFFSETTO:+0300
TZNAME:EEST
DTSTART:20220327T010000
END:DAYLIGHT
BEGIN:STANDARD
TZOFFSETFROM:+0300
TZOFFSETTO:+0200
TZNAME:EET
DTSTART:20221030T010000
END:STANDARD
BEGIN:DAYLIGHT
TZOFFSETFROM:+0200
TZOFFSETTO:+0300
TZNAME:EEST
DTSTART:20230326T010000
END:DAYLIGHT
BEGIN:STANDARD
TZOFFSETFROM:+0300
TZOFFSETTO:+0200
TZNAME:EET
DTSTART:20231029T010000
END:STANDARD
END:VTIMEZONE
BEGIN:VEVENT
DTSTART;VALUE=DATE:20220325
DTEND;VALUE=DATE:20220328
DTSTAMP:20260423T212115
CREATED:20220320T065616Z
LAST-MODIFIED:20220320T065657Z
UID:2252-1648166400-1648425599@kazinczy-alapitvany.hu
SUMMARY:"Szép Magyar Beszéd" verseny regionális döntője – Kisújszállás
DESCRIPTION:Regionális döntő a Dunától keletre eső megyék 5–8. évfolyamos (11–14 éves korú) tanulói részére.\n(Bács-Kiskun\, Békés\, Borsod-Abaúj-Zemplén\, Csongrád\, Hajdú-Bihar\, Heves\, Jász-Nagykun-Szolnok\, Nógrád\, Pest\, Szabolcs-Szatmár-Bereg)
URL:https://kazinczy-alapitvany.hu/esemeny/szep-magyar-beszed-verseny-regionalis-dontoje-kisujszallas/
LOCATION:Móricz Zsigmond Református Kollégium\, Gimnázium\, Szakközépiskola és Általános Iskola\, Széchenyi út 4.\, Kisújszállás\, 5310\, Magyarország
CATEGORIES:Kazinczy-verseny általános iskolásoknak
END:VEVENT
END:VCALENDAR