BEGIN:VCALENDAR
VERSION:2.0
PRODID:-//Kazinczy-díj Alapítvány - ECPv6.15.20//NONSGML v1.0//EN
CALSCALE:GREGORIAN
METHOD:PUBLISH
X-WR-CALNAME:Kazinczy-díj Alapítvány
X-ORIGINAL-URL:https://kazinczy-alapitvany.hu
X-WR-CALDESC:Események Kazinczy-díj Alapítvány
REFRESH-INTERVAL;VALUE=DURATION:PT1H
X-Robots-Tag:noindex
X-PUBLISHED-TTL:PT1H
BEGIN:VTIMEZONE
TZID:Europe/Helsinki
BEGIN:DAYLIGHT
TZOFFSETFROM:+0200
TZOFFSETTO:+0300
TZNAME:EEST
DTSTART:20190331T010000
END:DAYLIGHT
BEGIN:STANDARD
TZOFFSETFROM:+0300
TZOFFSETTO:+0200
TZNAME:EET
DTSTART:20191027T010000
END:STANDARD
BEGIN:DAYLIGHT
TZOFFSETFROM:+0200
TZOFFSETTO:+0300
TZNAME:EEST
DTSTART:20200329T010000
END:DAYLIGHT
BEGIN:STANDARD
TZOFFSETFROM:+0300
TZOFFSETTO:+0200
TZNAME:EET
DTSTART:20201025T010000
END:STANDARD
BEGIN:DAYLIGHT
TZOFFSETFROM:+0200
TZOFFSETTO:+0300
TZNAME:EEST
DTSTART:20210328T010000
END:DAYLIGHT
BEGIN:STANDARD
TZOFFSETFROM:+0300
TZOFFSETTO:+0200
TZNAME:EET
DTSTART:20211031T010000
END:STANDARD
END:VTIMEZONE
BEGIN:VEVENT
DTSTART;VALUE=DATE:20200210
DTEND;VALUE=DATE:20200211
DTSTAMP:20260425T011654
CREATED:20200117T205419Z
LAST-MODIFIED:20200117T215414Z
UID:1419-1581292800-1581379199@kazinczy-alapitvany.hu
SUMMARY:ált. isk. területi forduló: Ráckeve
DESCRIPTION:
URL:https://kazinczy-alapitvany.hu/esemeny/alt-isk-teruleti-fordulo-rackeve/
CATEGORIES:Kazinczy-verseny általános iskolásoknak
END:VEVENT
BEGIN:VEVENT
DTSTART;TZID=Europe/Helsinki:20200210T133000
DTEND;TZID=Europe/Helsinki:20200210T133000
DTSTAMP:20260425T011654
CREATED:20200108T201846Z
LAST-MODIFIED:20200117T215443Z
UID:1263-1581341400-1581341400@kazinczy-alapitvany.hu
SUMMARY:ált. isk. területi forduló: Békés
DESCRIPTION:
URL:https://kazinczy-alapitvany.hu/esemeny/alt-isk-teruleti-fordulo-bekes/
CATEGORIES:Kazinczy-verseny általános iskolásoknak
END:VEVENT
BEGIN:VEVENT
DTSTART;TZID=Europe/Helsinki:20200210T140000
DTEND;TZID=Europe/Helsinki:20200210T140000
DTSTAMP:20260425T011654
CREATED:20200108T201848Z
LAST-MODIFIED:20200117T215405Z
UID:1264-1581343200-1581343200@kazinczy-alapitvany.hu
SUMMARY:ált. isk. területi forduló: 16. kerület
DESCRIPTION:
URL:https://kazinczy-alapitvany.hu/esemeny/alt-isk-teruleti-fordulo-16-kerulet/
CATEGORIES:Kazinczy-verseny általános iskolásoknak
END:VEVENT
BEGIN:VEVENT
DTSTART;TZID=Europe/Helsinki:20200210T143000
DTEND;TZID=Europe/Helsinki:20200210T173000
DTSTAMP:20260425T011654
CREATED:20200204T220419Z
LAST-MODIFIED:20200204T220419Z
UID:1642-1581345000-1581355800@kazinczy-alapitvany.hu
SUMMARY:ált. isk. területi forduló: Csongrád
DESCRIPTION:
URL:https://kazinczy-alapitvany.hu/esemeny/alt-isk-teruleti-fordulo-csongrad/
CATEGORIES:Kazinczy-verseny általános iskolásoknak
END:VEVENT
BEGIN:VEVENT
DTSTART;VALUE=DATE:20200211
DTEND;VALUE=DATE:20200212
DTSTAMP:20260425T011654
CREATED:20200108T201851Z
LAST-MODIFIED:20200117T215426Z
UID:1265-1581379200-1581465599@kazinczy-alapitvany.hu
SUMMARY:ált. isk. területi forduló: Balmazújváros
DESCRIPTION:
URL:https://kazinczy-alapitvany.hu/esemeny/alt-isk-teruleti-fordulo-balmazujvaros/
CATEGORIES:Kazinczy-verseny általános iskolásoknak
END:VEVENT
BEGIN:VEVENT
DTSTART;VALUE=DATE:20200211
DTEND;VALUE=DATE:20200212
DTSTAMP:20260425T011654
CREATED:20200117T205428Z
LAST-MODIFIED:20200117T215422Z
UID:1422-1581379200-1581465599@kazinczy-alapitvany.hu
SUMMARY:ált. isk. területi forduló: Kazincbarcika\, Edelény\, Ózd
DESCRIPTION:
URL:https://kazinczy-alapitvany.hu/esemeny/alt-isk-teruleti-fordulo-kazincbarcika-edeleny-ozd/
CATEGORIES:Kazinczy-verseny általános iskolásoknak
END:VEVENT
BEGIN:VEVENT
DTSTART;VALUE=DATE:20200211
DTEND;VALUE=DATE:20200212
DTSTAMP:20260425T011654
CREATED:20200117T205430Z
LAST-MODIFIED:20200117T215353Z
UID:1423-1581379200-1581465599@kazinczy-alapitvany.hu
SUMMARY:ált. isk. területi forduló: 02. kerület
DESCRIPTION:
URL:https://kazinczy-alapitvany.hu/esemeny/alt-isk-teruleti-fordulo-02-kerulet/
LOCATION:Baár–Madas Református Gimnázium\, Általános Iskola és Kollégium\, Lorántffy Zsuzsanna utca 3.\, Budapest\, 1022\, Magyarország
CATEGORIES:Kazinczy-verseny általános iskolásoknak
END:VEVENT
BEGIN:VEVENT
DTSTART;VALUE=DATE:20200211
DTEND;VALUE=DATE:20200212
DTSTAMP:20260425T011654
CREATED:20200117T205432Z
LAST-MODIFIED:20200117T215405Z
UID:1424-1581379200-1581465599@kazinczy-alapitvany.hu
SUMMARY:ált. isk. területi forduló: 15. kerület
DESCRIPTION:
URL:https://kazinczy-alapitvany.hu/esemeny/alt-isk-teruleti-fordulo-15-kerulet/
CATEGORIES:Kazinczy-verseny általános iskolásoknak
END:VEVENT
BEGIN:VEVENT
DTSTART;TZID=Europe/Helsinki:20200211T130000
DTEND;TZID=Europe/Helsinki:20200211T170000
DTSTAMP:20260425T011654
CREATED:20200204T220758Z
LAST-MODIFIED:20200204T220758Z
UID:1645-1581426000-1581440400@kazinczy-alapitvany.hu
SUMMARY:ált. isk. területi forduló: Nyíradony
DESCRIPTION:
URL:https://kazinczy-alapitvany.hu/esemeny/alt-isk-teruleti-fordulo-nyiradony/
CATEGORIES:Kazinczy-verseny általános iskolásoknak
END:VEVENT
BEGIN:VEVENT
DTSTART;TZID=Europe/Helsinki:20200211T133000
DTEND;TZID=Europe/Helsinki:20200211T133000
DTSTAMP:20260425T011654
CREATED:20200117T205421Z
LAST-MODIFIED:20200117T215413Z
UID:1420-1581427800-1581427800@kazinczy-alapitvany.hu
SUMMARY:ált. isk. területi forduló: Aszód környéke
DESCRIPTION:
URL:https://kazinczy-alapitvany.hu/esemeny/alt-isk-teruleti-fordulo-aszod-kornyeke/
CATEGORIES:Kazinczy-verseny általános iskolásoknak
END:VEVENT
BEGIN:VEVENT
DTSTART;TZID=Europe/Helsinki:20200211T140000
DTEND;TZID=Europe/Helsinki:20200211T140000
DTSTAMP:20260425T011654
CREATED:20200108T201853Z
LAST-MODIFIED:20200117T215354Z
UID:1266-1581429600-1581429600@kazinczy-alapitvany.hu
SUMMARY:ált. isk. területi forduló: 06. kerület
DESCRIPTION:
URL:https://kazinczy-alapitvany.hu/esemeny/alt-isk-teruleti-fordulo-06-kerulet/
CATEGORIES:Kazinczy-verseny általános iskolásoknak
END:VEVENT
BEGIN:VEVENT
DTSTART;TZID=Europe/Helsinki:20200211T140000
DTEND;TZID=Europe/Helsinki:20200211T140000
DTSTAMP:20260425T011654
CREATED:20200108T201948Z
LAST-MODIFIED:20200117T215411Z
UID:1289-1581429600-1581429600@kazinczy-alapitvany.hu
SUMMARY:ált. isk. területi forduló: 23. kerület
DESCRIPTION:
URL:https://kazinczy-alapitvany.hu/esemeny/alt-isk-teruleti-fordulo-23-kerulet/
CATEGORIES:Kazinczy-verseny általános iskolásoknak
END:VEVENT
BEGIN:VEVENT
DTSTART;TZID=Europe/Helsinki:20200211T140000
DTEND;TZID=Europe/Helsinki:20200211T180000
DTSTAMP:20260425T011654
CREATED:20200204T221029Z
LAST-MODIFIED:20200204T221029Z
UID:1648-1581429600-1581444000@kazinczy-alapitvany.hu
SUMMARY:ált. isk. területi forduló: Mezőkövesd
DESCRIPTION:
URL:https://kazinczy-alapitvany.hu/esemeny/alt-isk-teruleti-fordulo-mezokovesd/
CATEGORIES:Kazinczy-verseny általános iskolásoknak
END:VEVENT
BEGIN:VEVENT
DTSTART;TZID=Europe/Helsinki:20200211T143000
DTEND;TZID=Europe/Helsinki:20200211T143000
DTSTAMP:20260425T011654
CREATED:20200117T215407Z
LAST-MODIFIED:20200117T215407Z
UID:1544-1581431400-1581431400@kazinczy-alapitvany.hu
SUMMARY:ált. isk. területi forduló: 19. kerület
DESCRIPTION:
URL:https://kazinczy-alapitvany.hu/esemeny/alt-isk-teruleti-fordulo-19-kerulet-2/
CATEGORIES:Kazinczy-verseny általános iskolásoknak
END:VEVENT
BEGIN:VEVENT
DTSTART;TZID=Europe/Helsinki:20200211T150000
DTEND;TZID=Europe/Helsinki:20200211T150000
DTSTAMP:20260425T011654
CREATED:20200117T205427Z
LAST-MODIFIED:20200117T215353Z
UID:1421-1581433200-1581433200@kazinczy-alapitvany.hu
SUMMARY:ált. isk. területi forduló: 01. kerület
DESCRIPTION:
URL:https://kazinczy-alapitvany.hu/esemeny/alt-isk-teruleti-fordulo-01-kerulet/
CATEGORIES:Kazinczy-verseny általános iskolásoknak
END:VEVENT
BEGIN:VEVENT
DTSTART;VALUE=DATE:20200212
DTEND;VALUE=DATE:20200213
DTSTAMP:20260425T011654
CREATED:20200108T201857Z
LAST-MODIFIED:20200117T215458Z
UID:1268-1581465600-1581551999@kazinczy-alapitvany.hu
SUMMARY:ált. isk. területi forduló: Mórahalom
DESCRIPTION:
URL:https://kazinczy-alapitvany.hu/esemeny/alt-isk-teruleti-fordulo-morahalom/
CATEGORIES:Kazinczy-verseny általános iskolásoknak
END:VEVENT
BEGIN:VEVENT
DTSTART;VALUE=DATE:20200212
DTEND;VALUE=DATE:20200213
DTSTAMP:20260425T011654
CREATED:20200108T201859Z
LAST-MODIFIED:20200117T215414Z
UID:1269-1581465600-1581551999@kazinczy-alapitvany.hu
SUMMARY:ált. isk. területi forduló: Vecsés\, Monor
DESCRIPTION:
URL:https://kazinczy-alapitvany.hu/esemeny/alt-isk-teruleti-fordulo-vecses-monor/
CATEGORIES:Kazinczy-verseny általános iskolásoknak
END:VEVENT
BEGIN:VEVENT
DTSTART;TZID=Europe/Helsinki:20200212T093000
DTEND;TZID=Europe/Helsinki:20200212T093000
DTSTAMP:20260425T011654
CREATED:20200117T215441Z
LAST-MODIFIED:20200117T215441Z
UID:1549-1581499800-1581499800@kazinczy-alapitvany.hu
SUMMARY:ált. isk. területi forduló: Karcag\, Kisújszállás\, Tiszafüred
DESCRIPTION:
URL:https://kazinczy-alapitvany.hu/esemeny/alt-isk-teruleti-fordulo-karcag-kisujszallas-tiszafured/
CATEGORIES:Kazinczy-verseny általános iskolásoknak
END:VEVENT
BEGIN:VEVENT
DTSTART;TZID=Europe/Helsinki:20200212T123000
DTEND;TZID=Europe/Helsinki:20200212T173000
DTSTAMP:20260425T011654
CREATED:20200205T221621Z
LAST-MODIFIED:20200205T221621Z
UID:1707-1581510600-1581528600@kazinczy-alapitvany.hu
SUMMARY:Szabolcs-Szatmár-Bereg megyei döntő
DESCRIPTION:A középfokú iskolások részére meghirdetett „Szép magyar beszéd” verseny Szabolcs-Szatmár-Bereg megyei döntője.
URL:https://kazinczy-alapitvany.hu/esemeny/szabolcs-szatmar-bereg-megyei-donto/
CATEGORIES:Kazinczy-verseny középiskolásoknak
END:VEVENT
BEGIN:VEVENT
DTSTART;TZID=Europe/Helsinki:20200212T130000
DTEND;TZID=Europe/Helsinki:20200212T130000
DTSTAMP:20260425T011654
CREATED:20200108T201902Z
LAST-MODIFIED:20200117T215500Z
UID:1270-1581512400-1581512400@kazinczy-alapitvany.hu
SUMMARY:ált. isk. területi forduló: Szekszárd
DESCRIPTION:
URL:https://kazinczy-alapitvany.hu/esemeny/alt-isk-teruleti-fordulo-szekszard/
CATEGORIES:Kazinczy-verseny általános iskolásoknak
END:VEVENT
BEGIN:VEVENT
DTSTART;TZID=Europe/Helsinki:20200212T140000
DTEND;TZID=Europe/Helsinki:20200212T140000
DTSTAMP:20260425T011654
CREATED:20200108T201904Z
LAST-MODIFIED:20200117T215434Z
UID:1271-1581516000-1581516000@kazinczy-alapitvany.hu
SUMMARY:ált. isk. területi forduló: Hajdúhadház
DESCRIPTION:
URL:https://kazinczy-alapitvany.hu/esemeny/alt-isk-teruleti-fordulo-hajduhadhaz/
CATEGORIES:Kazinczy-verseny általános iskolásoknak
END:VEVENT
BEGIN:VEVENT
DTSTART;TZID=Europe/Helsinki:20200212T140000
DTEND;TZID=Europe/Helsinki:20200212T140000
DTSTAMP:20260425T011654
CREATED:20200108T201906Z
LAST-MODIFIED:20200117T215419Z
UID:1272-1581516000-1581516000@kazinczy-alapitvany.hu
SUMMARY:ált. isk. területi forduló: Tata
DESCRIPTION:
URL:https://kazinczy-alapitvany.hu/esemeny/alt-isk-teruleti-fordulo-tata/
CATEGORIES:Kazinczy-verseny általános iskolásoknak
END:VEVENT
BEGIN:VEVENT
DTSTART;TZID=Europe/Helsinki:20200212T140000
DTEND;TZID=Europe/Helsinki:20200212T140000
DTSTAMP:20260425T011654
CREATED:20200108T201908Z
LAST-MODIFIED:20200117T215439Z
UID:1273-1581516000-1581516000@kazinczy-alapitvany.hu
SUMMARY:ált. isk. területi forduló: Mátészalka
DESCRIPTION:
URL:https://kazinczy-alapitvany.hu/esemeny/alt-isk-teruleti-fordulo-mateszalka/
CATEGORIES:Kazinczy-verseny általános iskolásoknak
END:VEVENT
BEGIN:VEVENT
DTSTART;TZID=Europe/Helsinki:20200212T140000
DTEND;TZID=Europe/Helsinki:20200212T140000
DTSTAMP:20260425T011654
CREATED:20200117T205436Z
LAST-MODIFIED:20200117T215425Z
UID:1425-1581516000-1581516000@kazinczy-alapitvany.hu
SUMMARY:ált. isk. területi forduló: Sátoraljaújhely\, Sárospatak\, Tokaj\, Bodrogköz
DESCRIPTION:
URL:https://kazinczy-alapitvany.hu/esemeny/alt-isk-teruleti-fordulo-satoraljaujhely-sarospatak-tokaj-bodrogkoz/
CATEGORIES:Kazinczy-verseny általános iskolásoknak
END:VEVENT
BEGIN:VEVENT
DTSTART;TZID=Europe/Helsinki:20200212T140000
DTEND;TZID=Europe/Helsinki:20200212T140000
DTSTAMP:20260425T011654
CREATED:20200117T205438Z
LAST-MODIFIED:20200117T215436Z
UID:1426-1581516000-1581516000@kazinczy-alapitvany.hu
SUMMARY:ált. isk. területi forduló: Pátroha
DESCRIPTION:
URL:https://kazinczy-alapitvany.hu/esemeny/alt-isk-teruleti-fordulo-patroha/
CATEGORIES:Kazinczy-verseny általános iskolásoknak
END:VEVENT
BEGIN:VEVENT
DTSTART;TZID=Europe/Helsinki:20200212T140000
DTEND;TZID=Europe/Helsinki:20200212T180000
DTSTAMP:20260425T011654
CREATED:20200205T221342Z
LAST-MODIFIED:20200205T221342Z
UID:1703-1581516000-1581530400@kazinczy-alapitvany.hu
SUMMARY:Pest megyei döntő
DESCRIPTION:A középfokú iskolások részére meghirdetett „Szép magyar beszéd” verseny Pest megyei döntője.
URL:https://kazinczy-alapitvany.hu/esemeny/pest-megyei-donto/
CATEGORIES:Kazinczy-verseny középiskolásoknak
END:VEVENT
BEGIN:VEVENT
DTSTART;TZID=Europe/Helsinki:20200212T143000
DTEND;TZID=Europe/Helsinki:20200212T143000
DTSTAMP:20260425T011654
CREATED:20200108T201910Z
LAST-MODIFIED:20200117T215447Z
UID:1274-1581517800-1581517800@kazinczy-alapitvany.hu
SUMMARY:ált. isk. területi forduló: Mezőhegyes
DESCRIPTION:
URL:https://kazinczy-alapitvany.hu/esemeny/alt-isk-teruleti-fordulo-mezohegyes/
CATEGORIES:Kazinczy-verseny általános iskolásoknak
END:VEVENT
BEGIN:VEVENT
DTSTART;TZID=Europe/Helsinki:20200212T143000
DTEND;TZID=Europe/Helsinki:20200212T173000
DTSTAMP:20260425T011654
CREATED:20200117T215444Z
LAST-MODIFIED:20200205T070955Z
UID:1550-1581517800-1581528600@kazinczy-alapitvany.hu
SUMMARY:ált. isk. területi forduló: Mezőberény
DESCRIPTION:
URL:https://kazinczy-alapitvany.hu/esemeny/alt-isk-teruleti-fordulo-mezobereny/
CATEGORIES:Kazinczy-verseny általános iskolásoknak
END:VEVENT
BEGIN:VEVENT
DTSTART;TZID=Europe/Helsinki:20200212T143000
DTEND;TZID=Europe/Helsinki:20200212T173000
DTSTAMP:20260425T011654
CREATED:20200117T215451Z
LAST-MODIFIED:20200205T193651Z
UID:1551-1581517800-1581528600@kazinczy-alapitvany.hu
SUMMARY:ált. isk. területi forduló: Baja
DESCRIPTION:
URL:https://kazinczy-alapitvany.hu/esemeny/alt-isk-teruleti-fordulo-baja/
CATEGORIES:Kazinczy-verseny általános iskolásoknak
END:VEVENT
BEGIN:VEVENT
DTSTART;VALUE=DATE:20200213
DTEND;VALUE=DATE:20200214
DTSTAMP:20260425T011654
CREATED:20200108T201913Z
LAST-MODIFIED:20200117T215504Z
UID:1275-1581552000-1581638399@kazinczy-alapitvany.hu
SUMMARY:ált. isk. területi forduló: Pécs
DESCRIPTION:
URL:https://kazinczy-alapitvany.hu/esemeny/alt-isk-teruleti-fordulo-pecs-2/
CATEGORIES:Kazinczy-verseny általános iskolásoknak
END:VEVENT
END:VCALENDAR