BEGIN:VCALENDAR
VERSION:2.0
PRODID:-//Kazinczy-díj Alapítvány - ECPv6.15.20//NONSGML v1.0//EN
CALSCALE:GREGORIAN
METHOD:PUBLISH
X-ORIGINAL-URL:https://kazinczy-alapitvany.hu
X-WR-CALDESC:Események Kazinczy-díj Alapítvány
REFRESH-INTERVAL;VALUE=DURATION:PT1H
X-Robots-Tag:noindex
X-PUBLISHED-TTL:PT1H
BEGIN:VTIMEZONE
TZID:Europe/Helsinki
BEGIN:DAYLIGHT
TZOFFSETFROM:+0200
TZOFFSETTO:+0300
TZNAME:EEST
DTSTART:20180325T010000
END:DAYLIGHT
BEGIN:STANDARD
TZOFFSETFROM:+0300
TZOFFSETTO:+0200
TZNAME:EET
DTSTART:20181028T010000
END:STANDARD
BEGIN:DAYLIGHT
TZOFFSETFROM:+0200
TZOFFSETTO:+0300
TZNAME:EEST
DTSTART:20190331T010000
END:DAYLIGHT
BEGIN:STANDARD
TZOFFSETFROM:+0300
TZOFFSETTO:+0200
TZNAME:EET
DTSTART:20191027T010000
END:STANDARD
BEGIN:DAYLIGHT
TZOFFSETFROM:+0200
TZOFFSETTO:+0300
TZNAME:EEST
DTSTART:20200329T010000
END:DAYLIGHT
BEGIN:STANDARD
TZOFFSETFROM:+0300
TZOFFSETTO:+0200
TZNAME:EET
DTSTART:20201025T010000
END:STANDARD
BEGIN:DAYLIGHT
TZOFFSETFROM:+0200
TZOFFSETTO:+0300
TZNAME:EEST
DTSTART:20210328T010000
END:DAYLIGHT
BEGIN:STANDARD
TZOFFSETFROM:+0300
TZOFFSETTO:+0200
TZNAME:EET
DTSTART:20211031T010000
END:STANDARD
END:VTIMEZONE
BEGIN:VEVENT
DTSTART;TZID=Europe/Helsinki:20191113T160000
DTEND;TZID=Europe/Helsinki:20191113T200000
DTSTAMP:20260425T140411
CREATED:20191019T070009Z
LAST-MODIFIED:20191019T070030Z
UID:976-1573660800-1573675200@kazinczy-alapitvany.hu
SUMMARY:A magyar nyelv napja - gála
DESCRIPTION:Az Anyanyelvápolók Szövetségének elnöksége nevében szeretettel várjuk Önt és kísérőjét a magyar nyelv napja közös megünneplésére
URL:https://kazinczy-alapitvany.hu/esemeny/a-magyar-nyelv-napja-gala-2019/
LOCATION:Vigadó\, Vigadó tér 2.\, Budapest\, 1051\, Magyarország
CATEGORIES:Anyanyelvápolók Szövetsége
ORGANIZER;CN="Anyanyelv%C3%A1pol%C3%B3k Sz%C3%B6vets%C3%A9ge":MAILTO:posta@anyanyelvapolo.hu
END:VEVENT
BEGIN:VEVENT
DTSTART;TZID=Europe/Helsinki:20191130T100000
DTEND;TZID=Europe/Helsinki:20191130T140000
DTSTAMP:20260425T140411
CREATED:20191019T070224Z
LAST-MODIFIED:20191019T070224Z
UID:980-1575108000-1575122400@kazinczy-alapitvany.hu
SUMMARY:Péchy Blanka-emléknap és -verseny a Gundelben
DESCRIPTION:2018. november 30-án 31. alkalommal várja a Gundel Károly Vendéglátóipari és Idegenforgalmi Szakképző Iskola a versenyző kedvű\, az anyanyelv iránt érdeklődő diákokat a Péchy Blanka-emléknap alkalmából.
URL:https://kazinczy-alapitvany.hu/esemeny/pechy-blanka-emleknap-es-verseny-a-gundelben-2019/
CATEGORIES:Anyanyelvápolók Szövetsége
END:VEVENT
BEGIN:VEVENT
DTSTART;VALUE=DATE:20200116
DTEND;VALUE=DATE:20200117
DTSTAMP:20260425T140411
CREATED:20200108T201732Z
LAST-MODIFIED:20200117T215429Z
UID:1230-1579132800-1579219199@kazinczy-alapitvany.hu
SUMMARY:ált. isk. területi forduló: Biharkeresztes
DESCRIPTION:
URL:https://kazinczy-alapitvany.hu/esemeny/alt-isk-teruleti-fordulo-biharkeresztes/
CATEGORIES:Kazinczy-verseny általános iskolásoknak
END:VEVENT
BEGIN:VEVENT
DTSTART;TZID=Europe/Helsinki:20200116T150000
DTEND;TZID=Europe/Helsinki:20200116T150000
DTSTAMP:20260425T140411
CREATED:20200108T201734Z
LAST-MODIFIED:20200117T215427Z
UID:1231-1579186800-1579186800@kazinczy-alapitvany.hu
SUMMARY:ált. isk. területi forduló: Hajdúdorog
DESCRIPTION:
URL:https://kazinczy-alapitvany.hu/esemeny/alt-isk-teruleti-fordulo-hajdudorog/
CATEGORIES:Kazinczy-verseny általános iskolásoknak
END:VEVENT
BEGIN:VEVENT
DTSTART;TZID=Europe/Helsinki:20200120T140000
DTEND;TZID=Europe/Helsinki:20200120T140000
DTSTAMP:20260425T140411
CREATED:20200108T201736Z
LAST-MODIFIED:20200117T215449Z
UID:1232-1579528800-1579528800@kazinczy-alapitvany.hu
SUMMARY:ált. isk. területi forduló: Kalocsa
DESCRIPTION:
URL:https://kazinczy-alapitvany.hu/esemeny/alt-isk-teruleti-fordulo-kalocsa/
CATEGORIES:Kazinczy-verseny általános iskolásoknak
END:VEVENT
BEGIN:VEVENT
DTSTART;TZID=Europe/Helsinki:20200120T140000
DTEND;TZID=Europe/Helsinki:20200120T140000
DTSTAMP:20260425T140411
CREATED:20200108T201737Z
LAST-MODIFIED:20200117T215417Z
UID:1233-1579528800-1579528800@kazinczy-alapitvany.hu
SUMMARY:ált. isk. területi forduló: Nagykőrös\, Cegléd
DESCRIPTION:
URL:https://kazinczy-alapitvany.hu/esemeny/alt-isk-teruleti-fordulo-nagykoros-cegled/
CATEGORIES:Kazinczy-verseny általános iskolásoknak
END:VEVENT
BEGIN:VEVENT
DTSTART;TZID=Europe/Helsinki:20200121T140000
DTEND;TZID=Europe/Helsinki:20200121T140000
DTSTAMP:20260425T140411
CREATED:20200108T201739Z
LAST-MODIFIED:20200117T215410Z
UID:1234-1579615200-1579615200@kazinczy-alapitvany.hu
SUMMARY:ált. isk. területi forduló: 22. kerület
DESCRIPTION:
URL:https://kazinczy-alapitvany.hu/esemeny/alt-isk-teruleti-fordulo-22-kerulet/
CATEGORIES:Kazinczy-verseny általános iskolásoknak
END:VEVENT
BEGIN:VEVENT
DTSTART;TZID=Europe/Helsinki:20200122T090000
DTEND;TZID=Europe/Helsinki:20200122T090000
DTSTAMP:20260425T140411
CREATED:20200108T201746Z
LAST-MODIFIED:20200117T215446Z
UID:1235-1579683600-1579683600@kazinczy-alapitvany.hu
SUMMARY:ált. isk. területi forduló: Sarkad
DESCRIPTION:
URL:https://kazinczy-alapitvany.hu/esemeny/alt-isk-teruleti-fordulo-sarkad/
CATEGORIES:Kazinczy-verseny általános iskolásoknak
END:VEVENT
BEGIN:VEVENT
DTSTART;TZID=Europe/Helsinki:20200122T140000
DTEND;TZID=Europe/Helsinki:20200122T140000
DTSTAMP:20260425T140411
CREATED:20200108T201748Z
LAST-MODIFIED:20200117T215443Z
UID:1236-1579701600-1579701600@kazinczy-alapitvany.hu
SUMMARY:ált. isk. területi forduló: Szarvas
DESCRIPTION:
URL:https://kazinczy-alapitvany.hu/esemeny/alt-isk-teruleti-fordulo-szarvas/
CATEGORIES:Kazinczy-verseny általános iskolásoknak
END:VEVENT
BEGIN:VEVENT
DTSTART;TZID=Europe/Helsinki:20200122T140000
DTEND;TZID=Europe/Helsinki:20200122T140000
DTSTAMP:20260425T140411
CREATED:20200117T215453Z
LAST-MODIFIED:20200117T215453Z
UID:1552-1579701600-1579701600@kazinczy-alapitvany.hu
SUMMARY:ált. isk. területi forduló: Szentes\, Fábiánsebestyén\, Szegvár\, Nagymágocs
DESCRIPTION:
URL:https://kazinczy-alapitvany.hu/esemeny/alt-isk-teruleti-fordulo-szentes-fabiansebestyen-szegvar-nagymagocs/
CATEGORIES:Kazinczy-verseny általános iskolásoknak
END:VEVENT
BEGIN:VEVENT
DTSTART;TZID=Europe/Helsinki:20200128T140000
DTEND;TZID=Europe/Helsinki:20200128T140000
DTSTAMP:20260425T140411
CREATED:20200108T201752Z
LAST-MODIFIED:20200117T215432Z
UID:1238-1580220000-1580220000@kazinczy-alapitvany.hu
SUMMARY:ált. isk. területi forduló: Nádudvar
DESCRIPTION:
URL:https://kazinczy-alapitvany.hu/esemeny/alt-isk-teruleti-fordulo-nadudvar/
CATEGORIES:Kazinczy-verseny általános iskolásoknak
END:VEVENT
BEGIN:VEVENT
DTSTART;TZID=Europe/Helsinki:20200129T140000
DTEND;TZID=Europe/Helsinki:20200129T140000
DTSTAMP:20260425T140411
CREATED:20200108T201753Z
LAST-MODIFIED:20200117T215413Z
UID:1239-1580306400-1580306400@kazinczy-alapitvany.hu
SUMMARY:ált. isk. területi forduló: Bicske
DESCRIPTION:
URL:https://kazinczy-alapitvany.hu/esemeny/alt-isk-teruleti-fordulo-bicske/
CATEGORIES:Kazinczy-verseny általános iskolásoknak
END:VEVENT
BEGIN:VEVENT
DTSTART;VALUE=DATE:20200130
DTEND;VALUE=DATE:20200131
DTSTAMP:20260425T140411
CREATED:20200108T201756Z
LAST-MODIFIED:20200117T215414Z
UID:1240-1580342400-1580428799@kazinczy-alapitvany.hu
SUMMARY:ált. isk. területi forduló: Szigetszentmiklós
DESCRIPTION:
URL:https://kazinczy-alapitvany.hu/esemeny/alt-isk-teruleti-fordulo-szigetszentmiklos/
CATEGORIES:Kazinczy-verseny általános iskolásoknak
END:VEVENT
BEGIN:VEVENT
DTSTART;TZID=Europe/Helsinki:20200130T130000
DTEND;TZID=Europe/Helsinki:20200130T130000
DTSTAMP:20260425T140411
CREATED:20200117T215422Z
LAST-MODIFIED:20200117T215422Z
UID:1546-1580389200-1580389200@kazinczy-alapitvany.hu
SUMMARY:ált. isk. területi forduló: Eger környéke
DESCRIPTION:
URL:https://kazinczy-alapitvany.hu/esemeny/alt-isk-teruleti-fordulo-eger-kornyeke/
CATEGORIES:Kazinczy-verseny általános iskolásoknak
END:VEVENT
BEGIN:VEVENT
DTSTART;TZID=Europe/Helsinki:20200130T140000
DTEND;TZID=Europe/Helsinki:20200130T140000
DTSTAMP:20260425T140411
CREATED:20200108T201800Z
LAST-MODIFIED:20200117T215429Z
UID:1242-1580392800-1580392800@kazinczy-alapitvany.hu
SUMMARY:ált. isk. területi forduló: Derecske
DESCRIPTION:
URL:https://kazinczy-alapitvany.hu/esemeny/alt-isk-teruleti-fordulo-derecske/
CATEGORIES:Kazinczy-verseny általános iskolásoknak
END:VEVENT
BEGIN:VEVENT
DTSTART;TZID=Europe/Helsinki:20200130T143000
DTEND;TZID=Europe/Helsinki:20200130T143000
DTSTAMP:20260425T140411
CREATED:20200117T205413Z
LAST-MODIFIED:20200117T215435Z
UID:1416-1580394600-1580394600@kazinczy-alapitvany.hu
SUMMARY:ált. isk. területi forduló: Tiszalök
DESCRIPTION:
URL:https://kazinczy-alapitvany.hu/esemeny/alt-isk-teruleti-fordulo-tiszalok/
CATEGORIES:Kazinczy-verseny általános iskolásoknak
END:VEVENT
BEGIN:VEVENT
DTSTART;VALUE=DATE:20200204
DTEND;VALUE=DATE:20200205
DTSTAMP:20260425T140411
CREATED:20200108T201802Z
LAST-MODIFIED:20200117T215457Z
UID:1243-1580774400-1580860799@kazinczy-alapitvany.hu
SUMMARY:ált. isk. területi forduló: Kistelek
DESCRIPTION:
URL:https://kazinczy-alapitvany.hu/esemeny/alt-isk-teruleti-fordulo-kistelek/
CATEGORIES:Kazinczy-verseny általános iskolásoknak
END:VEVENT
BEGIN:VEVENT
DTSTART;TZID=Europe/Helsinki:20200204T143000
DTEND;TZID=Europe/Helsinki:20200204T143000
DTSTAMP:20260425T140411
CREATED:20200117T205415Z
LAST-MODIFIED:20200117T215459Z
UID:1417-1580826600-1580826600@kazinczy-alapitvany.hu
SUMMARY:ált. isk. területi forduló: Sárbogárd
DESCRIPTION:
URL:https://kazinczy-alapitvany.hu/esemeny/alt-isk-teruleti-fordulo-sarbogard/
CATEGORIES:Kazinczy-verseny általános iskolásoknak
END:VEVENT
BEGIN:VEVENT
DTSTART;VALUE=DATE:20200205
DTEND;VALUE=DATE:20200206
DTSTAMP:20260425T140411
CREATED:20200108T201804Z
LAST-MODIFIED:20200117T215504Z
UID:1244-1580860800-1580947199@kazinczy-alapitvany.hu
SUMMARY:ált. isk. területi forduló: Pécs
DESCRIPTION:
URL:https://kazinczy-alapitvany.hu/esemeny/alt-isk-teruleti-fordulo-pecs/
CATEGORIES:Kazinczy-verseny általános iskolásoknak
END:VEVENT
BEGIN:VEVENT
DTSTART;VALUE=DATE:20200205
DTEND;VALUE=DATE:20200206
DTSTAMP:20260425T140411
CREATED:20200108T201807Z
LAST-MODIFIED:20200117T215358Z
UID:1245-1580860800-1580947199@kazinczy-alapitvany.hu
SUMMARY:ált. isk. területi forduló: 07. kerület
DESCRIPTION:
URL:https://kazinczy-alapitvany.hu/esemeny/alt-isk-teruleti-fordulo-07-kerulet/
CATEGORIES:Kazinczy-verseny általános iskolásoknak
END:VEVENT
BEGIN:VEVENT
DTSTART;VALUE=DATE:20200205
DTEND;VALUE=DATE:20200206
DTSTAMP:20260425T140411
CREATED:20200108T201809Z
LAST-MODIFIED:20200117T215435Z
UID:1246-1580860800-1580947199@kazinczy-alapitvany.hu
SUMMARY:ált. isk. területi forduló: Újfehértó
DESCRIPTION:
URL:https://kazinczy-alapitvany.hu/esemeny/alt-isk-teruleti-fordulo-ujfeherto/
CATEGORIES:Kazinczy-verseny általános iskolásoknak
END:VEVENT
BEGIN:VEVENT
DTSTART;VALUE=DATE:20200205
DTEND;VALUE=DATE:20200206
DTSTAMP:20260425T140411
CREATED:20200108T201811Z
LAST-MODIFIED:20200117T215513Z
UID:1247-1580860800-1580947199@kazinczy-alapitvany.hu
SUMMARY:ált. isk. területi forduló: Nagykanizsa
DESCRIPTION:
URL:https://kazinczy-alapitvany.hu/esemeny/alt-isk-teruleti-fordulo-nagykanizsa/
CATEGORIES:Kazinczy-verseny általános iskolásoknak
END:VEVENT
BEGIN:VEVENT
DTSTART;TZID=Europe/Helsinki:20200205T140000
DTEND;TZID=Europe/Helsinki:20200205T140000
DTSTAMP:20260425T140411
CREATED:20200108T201813Z
LAST-MODIFIED:20200117T215439Z
UID:1248-1580911200-1580911200@kazinczy-alapitvany.hu
SUMMARY:ált. isk. területi forduló: Kisvárda
DESCRIPTION:
URL:https://kazinczy-alapitvany.hu/esemeny/alt-isk-teruleti-fordulo-kisvarda/
CATEGORIES:Kazinczy-verseny általános iskolásoknak
END:VEVENT
BEGIN:VEVENT
DTSTART;TZID=Europe/Helsinki:20200205T143000
DTEND;TZID=Europe/Helsinki:20200205T143000
DTSTAMP:20260425T140411
CREATED:20200108T201815Z
LAST-MODIFIED:20200117T215410Z
UID:1249-1580913000-1580913000@kazinczy-alapitvany.hu
SUMMARY:ált. isk. területi forduló: 20. kerület
DESCRIPTION:
URL:https://kazinczy-alapitvany.hu/esemeny/alt-isk-teruleti-fordulo-20-kerulet/
CATEGORIES:Kazinczy-verseny általános iskolásoknak
END:VEVENT
BEGIN:VEVENT
DTSTART;TZID=Europe/Helsinki:20200205T143000
DTEND;TZID=Europe/Helsinki:20200205T143000
DTSTAMP:20260425T140411
CREATED:20200108T201818Z
LAST-MODIFIED:20200117T215459Z
UID:1250-1580913000-1580913000@kazinczy-alapitvany.hu
SUMMARY:ált. isk. területi forduló: Makó
DESCRIPTION:
URL:https://kazinczy-alapitvany.hu/esemeny/alt-isk-teruleti-fordulo-mako/
CATEGORIES:Kazinczy-verseny általános iskolásoknak
END:VEVENT
BEGIN:VEVENT
DTSTART;TZID=Europe/Helsinki:20200205T143000
DTEND;TZID=Europe/Helsinki:20200205T143000
DTSTAMP:20260425T140411
CREATED:20200108T201820Z
LAST-MODIFIED:20200117T215434Z
UID:1251-1580913000-1580913000@kazinczy-alapitvany.hu
SUMMARY:ált. isk. területi forduló: Hajdúböszörmény
DESCRIPTION:
URL:https://kazinczy-alapitvany.hu/esemeny/alt-isk-teruleti-fordulo-hajduboszormeny/
CATEGORIES:Kazinczy-verseny általános iskolásoknak
END:VEVENT
BEGIN:VEVENT
DTSTART;TZID=Europe/Helsinki:20200206T100000
DTEND;TZID=Europe/Helsinki:20200206T100000
DTSTAMP:20260425T140411
CREATED:20200108T201822Z
LAST-MODIFIED:20200117T215451Z
UID:1252-1580983200-1580983200@kazinczy-alapitvany.hu
SUMMARY:ált. isk. területi forduló: Kiskunhalas
DESCRIPTION:
URL:https://kazinczy-alapitvany.hu/esemeny/alt-isk-teruleti-fordulo-kiskunhalas/
CATEGORIES:Kazinczy-verseny általános iskolásoknak
END:VEVENT
BEGIN:VEVENT
DTSTART;TZID=Europe/Helsinki:20200206T140000
DTEND;TZID=Europe/Helsinki:20200206T140000
DTSTAMP:20260425T140411
CREATED:20200108T201824Z
LAST-MODIFIED:20200117T215449Z
UID:1253-1580997600-1580997600@kazinczy-alapitvany.hu
SUMMARY:ált. isk. területi forduló: Kiskőrös
DESCRIPTION:
URL:https://kazinczy-alapitvany.hu/esemeny/alt-isk-teruleti-fordulo-kiskoros/
CATEGORIES:Kazinczy-verseny általános iskolásoknak
END:VEVENT
BEGIN:VEVENT
DTSTART;TZID=Europe/Helsinki:20200206T140000
DTEND;TZID=Europe/Helsinki:20200206T140000
DTSTAMP:20260425T140411
CREATED:20200108T201826Z
LAST-MODIFIED:20200117T215429Z
UID:1254-1580997600-1580997600@kazinczy-alapitvany.hu
SUMMARY:ált. isk. területi forduló: Berettyóújfalu
DESCRIPTION:
URL:https://kazinczy-alapitvany.hu/esemeny/alt-isk-teruleti-fordulo-berettyoujfalu/
CATEGORIES:Kazinczy-verseny általános iskolásoknak
END:VEVENT
BEGIN:VEVENT
DTSTART;TZID=Europe/Helsinki:20200206T140000
DTEND;TZID=Europe/Helsinki:20200206T140000
DTSTAMP:20260425T140411
CREATED:20200108T201829Z
LAST-MODIFIED:20200117T215426Z
UID:1255-1580997600-1580997600@kazinczy-alapitvany.hu
SUMMARY:ált. isk. területi forduló: Hajdúnánás
DESCRIPTION:
URL:https://kazinczy-alapitvany.hu/esemeny/alt-isk-teruleti-fordulo-hajdunanas/
CATEGORIES:Kazinczy-verseny általános iskolásoknak
END:VEVENT
END:VCALENDAR