BEGIN:VCALENDAR
VERSION:2.0
PRODID:-//Kazinczy-díj Alapítvány - ECPv6.15.20//NONSGML v1.0//EN
CALSCALE:GREGORIAN
METHOD:PUBLISH
X-ORIGINAL-URL:https://kazinczy-alapitvany.hu
X-WR-CALDESC:Események Kazinczy-díj Alapítvány
REFRESH-INTERVAL;VALUE=DURATION:PT1H
X-Robots-Tag:noindex
X-PUBLISHED-TTL:PT1H
BEGIN:VTIMEZONE
TZID:Europe/Helsinki
BEGIN:DAYLIGHT
TZOFFSETFROM:+0200
TZOFFSETTO:+0300
TZNAME:EEST
DTSTART:20190331T010000
END:DAYLIGHT
BEGIN:STANDARD
TZOFFSETFROM:+0300
TZOFFSETTO:+0200
TZNAME:EET
DTSTART:20191027T010000
END:STANDARD
BEGIN:DAYLIGHT
TZOFFSETFROM:+0200
TZOFFSETTO:+0300
TZNAME:EEST
DTSTART:20200329T010000
END:DAYLIGHT
BEGIN:STANDARD
TZOFFSETFROM:+0300
TZOFFSETTO:+0200
TZNAME:EET
DTSTART:20201025T010000
END:STANDARD
BEGIN:DAYLIGHT
TZOFFSETFROM:+0200
TZOFFSETTO:+0300
TZNAME:EEST
DTSTART:20210328T010000
END:DAYLIGHT
BEGIN:STANDARD
TZOFFSETFROM:+0300
TZOFFSETTO:+0200
TZNAME:EET
DTSTART:20211031T010000
END:STANDARD
END:VTIMEZONE
BEGIN:VEVENT
DTSTART;VALUE=DATE:20200220
DTEND;VALUE=DATE:20200221
DTSTAMP:20260425T000708
CREATED:20200108T201948Z
LAST-MODIFIED:20200117T215505Z
UID:1288-1582156800-1582243199@kazinczy-alapitvany.hu
SUMMARY:ált. isk. területi forduló: Siklós
DESCRIPTION:
URL:https://kazinczy-alapitvany.hu/esemeny/alt-isk-teruleti-fordulo-siklos/
CATEGORIES:Kazinczy-verseny általános iskolásoknak
END:VEVENT
BEGIN:VEVENT
DTSTART;TZID=Europe/Helsinki:20200220T140000
DTEND;TZID=Europe/Helsinki:20200220T170000
DTSTAMP:20260425T000708
CREATED:20200204T222401Z
LAST-MODIFIED:20200204T222401Z
UID:1657-1582207200-1582218000@kazinczy-alapitvany.hu
SUMMARY:ált. isk. területi forduló: Kőszeg\, Vasvár\, Szombathely
DESCRIPTION:
URL:https://kazinczy-alapitvany.hu/esemeny/alt-isk-teruleti-fordulo-koszeg-vasvar-szombathely/
CATEGORIES:Kazinczy-verseny általános iskolásoknak
END:VEVENT
BEGIN:VEVENT
DTSTART;TZID=Europe/Helsinki:20200220T140000
DTEND;TZID=Europe/Helsinki:20200220T170000
DTSTAMP:20260425T000708
CREATED:20200205T194344Z
LAST-MODIFIED:20200205T194344Z
UID:1678-1582207200-1582218000@kazinczy-alapitvany.hu
SUMMARY:ált. isk. területi forduló: Körmend\, Szentgotthárd
DESCRIPTION:
URL:https://kazinczy-alapitvany.hu/esemeny/alt-isk-teruleti-fordulo-kormend-szentgotthard/
CATEGORIES:Kazinczy-verseny általános iskolásoknak
END:VEVENT
BEGIN:VEVENT
DTSTART;TZID=Europe/Helsinki:20200221T090000
DTEND;TZID=Europe/Helsinki:20200221T090000
DTSTAMP:20260425T000708
CREATED:20200117T205448Z
LAST-MODIFIED:20200117T215501Z
UID:1430-1582275600-1582275600@kazinczy-alapitvany.hu
SUMMARY:ált. isk. területi forduló: Kaposvár\, Tab és környéke
DESCRIPTION:
URL:https://kazinczy-alapitvany.hu/esemeny/alt-isk-teruleti-fordulo-kaposvar-tab-es-kornyeke/
CATEGORIES:Kazinczy-verseny általános iskolásoknak
END:VEVENT
BEGIN:VEVENT
DTSTART;TZID=Europe/Helsinki:20200221T120000
DTEND;TZID=Europe/Helsinki:20200221T160000
DTSTAMP:20260425T000708
CREATED:20200204T222607Z
LAST-MODIFIED:20200204T222607Z
UID:1660-1582286400-1582300800@kazinczy-alapitvany.hu
SUMMARY:ált. isk. területi forduló: Nyíregyháza
DESCRIPTION:
URL:https://kazinczy-alapitvany.hu/esemeny/alt-isk-teruleti-fordulo-nyiregyhaza/
CATEGORIES:Kazinczy-verseny általános iskolásoknak
END:VEVENT
BEGIN:VEVENT
DTSTART;VALUE=DATE:20200224
DTEND;VALUE=DATE:20200225
DTSTAMP:20260425T000708
CREATED:20191018T111301Z
LAST-MODIFIED:20191018T111301Z
UID:958-1582502400-1582588799@kazinczy-alapitvany.hu
SUMMARY:Borsod-Abaúj-Zemplén megyei és miskolci döntő
DESCRIPTION:A középfokú iskolások részére meghirdetett „Szép magyar beszéd” verseny döntője Borsod-Abaúj-Zemplén megyei és miskolci tanulóknak.
URL:https://kazinczy-alapitvany.hu/esemeny/borsod-abauj-zemplen-megyei-donto-2020/
CATEGORIES:Kazinczy-verseny középiskolásoknak
END:VEVENT
BEGIN:VEVENT
DTSTART;VALUE=DATE:20200224
DTEND;VALUE=DATE:20200225
DTSTAMP:20260425T000708
CREATED:20200205T072717Z
LAST-MODIFIED:20200205T072717Z
UID:1672-1582502400-1582588799@kazinczy-alapitvany.hu
SUMMARY:ált. isk. területi forduló: Szeghalom
DESCRIPTION:
URL:https://kazinczy-alapitvany.hu/esemeny/alt-isk-teruleti-fordulo-szeghalom/
CATEGORIES:Kazinczy-verseny általános iskolásoknak
END:VEVENT
BEGIN:VEVENT
DTSTART;TZID=Europe/Helsinki:20200224T143000
DTEND;TZID=Europe/Helsinki:20200224T183000
DTSTAMP:20260425T000708
CREATED:20200205T221939Z
LAST-MODIFIED:20200205T221939Z
UID:1713-1582554600-1582569000@kazinczy-alapitvany.hu
SUMMARY:Vas megyei döntő
DESCRIPTION:A középfokú iskolások részére meghirdetett „Szép magyar beszéd” verseny Vas megyei döntője.
URL:https://kazinczy-alapitvany.hu/esemeny/vas-megyei-donto/
CATEGORIES:Kazinczy-verseny középiskolásoknak
END:VEVENT
BEGIN:VEVENT
DTSTART;TZID=Europe/Helsinki:20200224T143000
DTEND;TZID=Europe/Helsinki:20200224T183000
DTSTAMP:20260425T000708
CREATED:20200205T222104Z
LAST-MODIFIED:20200205T222104Z
UID:1716-1582554600-1582569000@kazinczy-alapitvany.hu
SUMMARY:Veszprém megyei döntő
DESCRIPTION:A középfokú iskolások részére meghirdetett „Szép magyar beszéd” verseny Veszprém megyei döntője.
URL:https://kazinczy-alapitvany.hu/esemeny/veszprem-megyei-donto/
CATEGORIES:Kazinczy-verseny középiskolásoknak
END:VEVENT
BEGIN:VEVENT
DTSTART;TZID=Europe/Helsinki:20200225T133000
DTEND;TZID=Europe/Helsinki:20200225T163000
DTSTAMP:20260425T000708
CREATED:20200214T162031Z
LAST-MODIFIED:20200214T162031Z
UID:1732-1582637400-1582648200@kazinczy-alapitvany.hu
SUMMARY:ált. isk. területi forduló: Miskolc\, Felsőzsolca
DESCRIPTION:
URL:https://kazinczy-alapitvany.hu/esemeny/alt-isk-teruleti-fordulo-miskolc-felsozsolca/
CATEGORIES:Kazinczy-verseny általános iskolásoknak
END:VEVENT
BEGIN:VEVENT
DTSTART;VALUE=DATE:20200226
DTEND;VALUE=DATE:20200227
DTSTAMP:20260425T000708
CREATED:20200205T220716Z
LAST-MODIFIED:20200205T220716Z
UID:1695-1582675200-1582761599@kazinczy-alapitvany.hu
SUMMARY:Győr-Moson-Sopron megyei és győri döntő
DESCRIPTION:A középfokú iskolások részére meghirdetett „Szép magyar beszéd” verseny döntője Győr-Moson-Sopron megyei és győri tanulóknak.
URL:https://kazinczy-alapitvany.hu/esemeny/gyor-moson-sopron-megyei-es-gyori-donto/
LOCATION:Kazinczy Ferenc Gimnázium és Kollégium\, Eötvös tér 1.\, Győr\, 9021\, Magyarország
CATEGORIES:Kazinczy-verseny középiskolásoknak
END:VEVENT
BEGIN:VEVENT
DTSTART;VALUE=DATE:20200226
DTEND;VALUE=DATE:20200228
DTSTAMP:20260425T000708
CREATED:20200205T215450Z
LAST-MODIFIED:20200205T215450Z
UID:1691-1582675200-1582847999@kazinczy-alapitvany.hu
SUMMARY:Budapesti döntő gimnáziumoknak
DESCRIPTION:A középfokú iskolások részére meghirdetett „Szép magyar beszéd” verseny budapesti döntője gimnáziumi tanulóknak.
URL:https://kazinczy-alapitvany.hu/esemeny/budapesti-donto-gimnaziumoknak/
CATEGORIES:Kazinczy-verseny középiskolásoknak
END:VEVENT
BEGIN:VEVENT
DTSTART;TZID=Europe/Helsinki:20200226T130000
DTEND;TZID=Europe/Helsinki:20200226T170000
DTSTAMP:20260425T000708
CREATED:20200204T222738Z
LAST-MODIFIED:20200204T222738Z
UID:1663-1582722000-1582736400@kazinczy-alapitvany.hu
SUMMARY:ált. isk. területi forduló: Jászberény
DESCRIPTION:
URL:https://kazinczy-alapitvany.hu/esemeny/alt-isk-teruleti-fordulo-jaszbereny/
CATEGORIES:Kazinczy-verseny általános iskolásoknak
END:VEVENT
BEGIN:VEVENT
DTSTART;VALUE=DATE:20200227
DTEND;VALUE=DATE:20200228
DTSTAMP:20260425T000708
CREATED:20200117T215519Z
LAST-MODIFIED:20200117T215519Z
UID:1563-1582761600-1582847999@kazinczy-alapitvany.hu
SUMMARY:ált. isk. területi forduló: Celldömölk\, Sárvár
DESCRIPTION:
URL:https://kazinczy-alapitvany.hu/esemeny/alt-isk-teruleti-fordulo-celldomolk-sarvar-2/
CATEGORIES:Kazinczy-verseny általános iskolásoknak
END:VEVENT
BEGIN:VEVENT
DTSTART;TZID=Europe/Helsinki:20200228T090000
DTEND;TZID=Europe/Helsinki:20200228T140000
DTSTAMP:20260425T000708
CREATED:20200205T215109Z
LAST-MODIFIED:20200205T215109Z
UID:1687-1582880400-1582898400@kazinczy-alapitvany.hu
SUMMARY:Békés megyei döntő
DESCRIPTION:A középfokú iskolások részére meghirdetett „Szép magyar beszéd” verseny Békés megyei döntője.
URL:https://kazinczy-alapitvany.hu/esemeny/bekes-megyei-donto/
CATEGORIES:Kazinczy-verseny középiskolásoknak
END:VEVENT
BEGIN:VEVENT
DTSTART;TZID=Europe/Helsinki:20200228T100000
DTEND;TZID=Europe/Helsinki:20200228T160000
DTSTAMP:20260425T000708
CREATED:20191018T114506Z
LAST-MODIFIED:20191018T114506Z
UID:967-1582884000-1582905600@kazinczy-alapitvany.hu
SUMMARY:Nógrád megyei döntő
DESCRIPTION:A középfokú iskolások részére meghirdetett „Szép magyar beszéd” verseny Nógrád megyei döntője.
URL:https://kazinczy-alapitvany.hu/esemeny/nograd-megyei-donto-2020/
CATEGORIES:Kazinczy-verseny középiskolásoknak
END:VEVENT
BEGIN:VEVENT
DTSTART;TZID=Europe/Helsinki:20200303T140000
DTEND;TZID=Europe/Helsinki:20200303T180000
DTSTAMP:20260425T000708
CREATED:20200205T221808Z
LAST-MODIFIED:20200205T221808Z
UID:1710-1583244000-1583258400@kazinczy-alapitvany.hu
SUMMARY:Tolna megyei döntő
DESCRIPTION:A középfokú iskolások részére meghirdetett „Szép magyar beszéd” verseny Tolna megyei döntője.
URL:https://kazinczy-alapitvany.hu/esemeny/tolna-megyei-donto/
CATEGORIES:Kazinczy-verseny középiskolásoknak
END:VEVENT
BEGIN:VEVENT
DTSTART;TZID=Europe/Helsinki:20200304T130000
DTEND;TZID=Europe/Helsinki:20200304T170000
DTSTAMP:20260425T000708
CREATED:20200205T222250Z
LAST-MODIFIED:20200205T222250Z
UID:1719-1583326800-1583341200@kazinczy-alapitvany.hu
SUMMARY:Zala megyei döntő
DESCRIPTION:A középfokú iskolások részére meghirdetett „Szép magyar beszéd” verseny Zala megyei döntője.
URL:https://kazinczy-alapitvany.hu/esemeny/zala-megyei-donto/
CATEGORIES:Kazinczy-verseny középiskolásoknak
END:VEVENT
BEGIN:VEVENT
DTSTART;TZID=Europe/Helsinki:20200305T083000
DTEND;TZID=Europe/Helsinki:20200305T140000
DTSTAMP:20260425T000708
CREATED:20200205T214400Z
LAST-MODIFIED:20200205T214400Z
UID:1681-1583397000-1583416800@kazinczy-alapitvany.hu
SUMMARY:Baranya megyei döntő
DESCRIPTION:A középfokú iskolások részére meghirdetett „Szép magyar beszéd” verseny Baranya megyei döntője.
URL:https://kazinczy-alapitvany.hu/esemeny/baranya-megyei-donto/
CATEGORIES:Kazinczy-verseny középiskolásoknak
END:VEVENT
BEGIN:VEVENT
DTSTART;TZID=Europe/Helsinki:20200305T140000
DTEND;TZID=Europe/Helsinki:20200305T180000
DTSTAMP:20260425T000708
CREATED:20200205T220950Z
LAST-MODIFIED:20200205T220950Z
UID:1697-1583416800-1583431200@kazinczy-alapitvany.hu
SUMMARY:Jász-Nagykun-Szolnok megyei döntő
DESCRIPTION:A középfokú iskolások részére meghirdetett „Szép magyar beszéd” verseny Jász-Nagykun-Szolnok megyei döntője.
URL:https://kazinczy-alapitvany.hu/esemeny/jasz-nagykun-szolnok-megyei-donto/
CATEGORIES:Kazinczy-verseny középiskolásoknak
END:VEVENT
BEGIN:VEVENT
DTSTART;VALUE=DATE:20200306
DTEND;VALUE=DATE:20200307
DTSTAMP:20260425T000708
CREATED:20191018T111636Z
LAST-MODIFIED:20191018T111636Z
UID:961-1583452800-1583539199@kazinczy-alapitvany.hu
SUMMARY:Csongrád megyei és szegedi döntő
DESCRIPTION:A középfokú iskolások részére meghirdetett „Szép magyar beszéd” verseny döntője Csongrád megyei és szegedi tanulóknak.
URL:https://kazinczy-alapitvany.hu/esemeny/csongrad-megyei-es-szegedi-donto-2020/
CATEGORIES:Kazinczy-verseny középiskolásoknak
END:VEVENT
BEGIN:VEVENT
DTSTART;TZID=Europe/Helsinki:20200306T090000
DTEND;TZID=Europe/Helsinki:20200306T140000
DTSTAMP:20260425T000708
CREATED:20200205T214740Z
LAST-MODIFIED:20200205T214740Z
UID:1684-1583485200-1583503200@kazinczy-alapitvany.hu
SUMMARY:Pécsi iskolák döntője
DESCRIPTION:A középfokú iskolások részére meghirdetett „Szép magyar beszéd” verseny döntője a pécsi iskolák részére.
URL:https://kazinczy-alapitvany.hu/esemeny/pecsi-iskolak-dontoje/
CATEGORIES:Kazinczy-verseny középiskolásoknak
END:VEVENT
BEGIN:VEVENT
DTSTART;TZID=Europe/Helsinki:20200306T140000
DTEND;TZID=Europe/Helsinki:20200306T180000
DTSTAMP:20260425T000708
CREATED:20191018T111941Z
LAST-MODIFIED:20191018T111941Z
UID:964-1583503200-1583517600@kazinczy-alapitvany.hu
SUMMARY:Fejér megyei döntő
DESCRIPTION:A középfokú iskolások részére meghirdetett „Szép magyar beszéd” verseny Fejér megyei döntője.
URL:https://kazinczy-alapitvany.hu/esemeny/fejer-megyei-donto-2020/
CATEGORIES:Kazinczy-verseny középiskolásoknak
END:VEVENT
BEGIN:VEVENT
DTSTART;TZID=Europe/Helsinki:20200307T103000
DTEND;TZID=Europe/Helsinki:20200307T143000
DTSTAMP:20260425T000708
CREATED:20191019T070710Z
LAST-MODIFIED:20191019T070731Z
UID:986-1583577000-1583591400@kazinczy-alapitvany.hu
SUMMARY:Práter anyanyelvi nap
DESCRIPTION:Immár nyolcadik alkalommal a Baár–Madas Református Gimnázium ad otthont a korábban a Práter utcai Általános Iskolában megrendezett anyanyelvi napnak\, amelyen a Beszélni nehéz! körök általános iskolás diákjai mérik össze tudásukat öt kategóriában: anyanyelvi csapatverseny\, vers- és prózamondás\, helyesírás\, kiejtésjelölés és szépkiejtés.
URL:https://kazinczy-alapitvany.hu/esemeny/prater-anyanyelvi-nap-2020/
CATEGORIES:Anyanyelvápolók Szövetsége
ORGANIZER;CN="Anyanyelv%C3%A1pol%C3%B3k Sz%C3%B6vets%C3%A9ge":MAILTO:posta@anyanyelvapolo.hu
END:VEVENT
BEGIN:VEVENT
DTSTART;TZID=Europe/Helsinki:20200309T150000
DTEND;TZID=Europe/Helsinki:20200310T170000
DTSTAMP:20260425T000708
CREATED:20191018T110518Z
LAST-MODIFIED:20200306T130212Z
UID:955-1583766000-1583859600@kazinczy-alapitvany.hu
SUMMARY:Budapesti döntő szakgimnáziumoknak
DESCRIPTION:A középfokú iskolások részére meghirdetett „Szép magyar beszéd” verseny budapesti döntője szakgimnáziumi tanulóknak.
URL:https://kazinczy-alapitvany.hu/esemeny/budapesti-donto-szakgimnaziumoknak-2020/
CATEGORIES:Kazinczy-verseny középiskolásoknak
END:VEVENT
BEGIN:VEVENT
DTSTART;VALUE=DATE:20200327
DTEND;VALUE=DATE:20200330
DTSTAMP:20260425T000708
CREATED:20191019T070931Z
LAST-MODIFIED:20200318T095803Z
UID:988-1585267200-1585526399@kazinczy-alapitvany.hu
SUMMARY:"Szép Magyar Beszéd" verseny regionális döntője – Kisújszállás
DESCRIPTION:A kisújszállási Móricz Zsigmond Református Gimnázium – a járványhelyzet miatt – az általános iskolai Kazinczy-verseny március 27–29-re meghirdetett félországos döntőjét elhalasztja. Az új időpontról minden érintettet időben értesítenek.\nRegionális döntő a Dunától keletre eső megyék 5–8. évfolyamos (11–14 éves korú) tanulói részére.\n(Bács-Kiskun\, Békés\, Borsod-Abaúj-Zemplén\, Csongrád\, Hajdú-Bihar\, Heves\, Jász-Nagykun-Szolnok\, Nógrád\, Pest\, Szabolcs-Szatmár-Bereg)
URL:https://kazinczy-alapitvany.hu/esemeny/szep-magyar-beszed-verseny-regionalis-dontoje-kisujszallas-2020/
LOCATION:Móricz Zsigmond Református Kollégium\, Gimnázium\, Szakközépiskola és Általános Iskola\, Széchenyi út 4.\, Kisújszállás\, 5310\, Magyarország
CATEGORIES:Kazinczy-verseny általános iskolásoknak
END:VEVENT
BEGIN:VEVENT
DTSTART;VALUE=DATE:20200402
DTEND;VALUE=DATE:20200405
DTSTAMP:20260425T000708
CREATED:20191019T072030Z
LAST-MODIFIED:20200318T095844Z
UID:991-1585785600-1586044799@kazinczy-alapitvany.hu
SUMMARY:"Szép Magyar Beszéd" verseny regionális döntője – Balatonboglár
DESCRIPTION:A Boglári Általános Iskola – a járványhelyzet miatt – az általános iskolai Kazinczy-verseny április 2–4-re meghirdetett félországos döntőjét elhalasztja. Az új időpontról minden érintettet időben értesítenek.\nRegionális döntő a Dunától nyugatra eső megyék 5–8. évfolyamos (11–14 éves korú) tanulói részére.\n(Baranya\, Fejér\, Győr-Moson-Sopron\, Komárom-Esztergom\, Somogy\, Tolna\, Vas\, Veszprém\, Zala és Budapest főváros)
URL:https://kazinczy-alapitvany.hu/esemeny/szep-magyar-beszed-verseny-regionalis-dontoje-balatonboglar-2020/
CATEGORIES:Kazinczy-verseny általános iskolásoknak
END:VEVENT
BEGIN:VEVENT
DTSTART;VALUE=DATE:20200417
DTEND;VALUE=DATE:20200420
DTSTAMP:20260425T000708
CREATED:20191018T115032Z
LAST-MODIFIED:20200330T162430Z
UID:970-1587081600-1587340799@kazinczy-alapitvany.hu
SUMMARY:"Szép magyar beszéd" verseny országos döntője
DESCRIPTION:A győri Kazinczy Ferenc Gimnázium tájékoztatása szerint a középfokú iskolások részére április 17–19-re meghirdetett Kazinczy-verseny elmarad. Az 55. döntőt 2021 áprilisában rendezik meg.
URL:https://kazinczy-alapitvany.hu/esemeny/szep-magyar-beszed-verseny-orszagos-dontoje/
CATEGORIES:Kazinczy-verseny középiskolásoknak
END:VEVENT
BEGIN:VEVENT
DTSTART;TZID=Europe/Helsinki:20200905T093000
DTEND;TZID=Europe/Helsinki:20200905T133000
DTSTAMP:20260425T000708
CREATED:20200818T192130Z
LAST-MODIFIED:20200910T084848Z
UID:1828-1599298200-1599312600@kazinczy-alapitvany.hu
SUMMARY:Az Anyanyelvápolók Szövetsége közgyűlése
DESCRIPTION:Tisztelt Tagtársunk\, Kedves Barátunk! \nÖrömteli találkozásunk reményében szeretettel várjuk az Anyanyelvápolók Szövetségének közgyűlésére 2020. szeptember 5-én (szombaton) délelőtt 9.30-kor. Amennyiben a Közgyűlés határozatképtelen\, úgy a meghirdetett időpontot követő fél óra múlva összehívott megismételt Közgyűlés – az eredeti napirenddel – a megjelentek számára tekintet nélkül határozatképes.\nHelyszín: a Petőfi Irodalmi Múzeum Díszterme (1053 Budapest\, Károlyi u. 16.) \nNapirend:\n\nBeszámolók Szövetségünk 2019. évi tevékenységéről és pénzügyi gazdálkodásáról.\nKonzultáció a 2020. évi járványügyi rendelkezések hatásáról\, elmaradt programjainkról és előrelátható lehetőségeinkről.\nHozzászólások\, javaslatok\, kérdések.\nZárszó.\nAz ASZ kiadásában\, illetve együttműködésében megjelent könyvét bemutatja: Balázs Géza\, Kemény Gábor\, Pusztay János. \n\nKözreműködnek:  \n\nErdélyi Bátor (9 éves) és Erdélyi Villő (12 éves) – vers\,\nLilik Judit és Szabó Krisztina – ének\, Kertész Rita – zongora.\n\nEbédszünet: körülbelül 12.30-tól.\n13.30-tól a „Beszélni nehéz!” körök országos találkozója.\nTisztelt Tagtársunk! Megjelenésére és aktív közreműködésére számítunk. A tanácskozás technikai feltételeiről az érvényes biztonsági előírások betartásával gondoskodunk\, ezért kérjük\, hogy a +36 30 504 7423-as telefonszámon vagy a kovacs.zsuzsanna@anyanyelvapolo.hu címen szeptember 2-ig szíveskedjen jelezni részvételi szándékát.\nKérjük\, szájmaszkot hozzon magával.\nBudapest\, 2020. augusztus 18. \nJuhász Judit elnök\nBalázs Géza alelnök\nKerekes Barnabás alelnök
URL:https://kazinczy-alapitvany.hu/esemeny/az-anyanyelvapolok-szovetsege-kozgyulese/
LOCATION:Petőfi Irodalmi Múzeum\, Károlyi utca 16.\, Budapest\, 1053\, Magyarország
CATEGORIES:Anyanyelvápolók Szövetsége
ORGANIZER;CN="Anyanyelv%C3%A1pol%C3%B3k Sz%C3%B6vets%C3%A9ge":MAILTO:posta@anyanyelvapolo.hu
END:VEVENT
BEGIN:VEVENT
DTSTART;VALUE=DATE:20201002
DTEND;VALUE=DATE:20201003
DTSTAMP:20260425T000708
CREATED:20200205T222657Z
LAST-MODIFIED:20200818T192408Z
UID:1723-1601596800-1601683199@kazinczy-alapitvany.hu
SUMMARY:Felsőoktatási intézmények „Szép Magyar Beszéd” versenyének döntője
DESCRIPTION:A kialakult járványhelyzet miatt a május 8-ra tervezett versenyt új időpontban\, 2020. október 2-án (pénteken) rendezik meg Esztergomban. Jelentkezési határidő: 2020. szeptember 25. 12.00 óra. A részletes versenykiírás itt érhető el.
URL:https://kazinczy-alapitvany.hu/esemeny/felsooktatasi-intezmenyek-szep-magyar-beszed-versenyenek-dontoje/
END:VEVENT
END:VCALENDAR